BEGIN:VCALENDAR
VERSION:2.0
PRODID:-//Asheville Tool Library - ECPv6.15.20//NONSGML v1.0//EN
CALSCALE:GREGORIAN
METHOD:PUBLISH
X-WR-CALNAME:Asheville Tool Library
X-ORIGINAL-URL:https://ashevilletoollibrary.org
X-WR-CALDESC:Events for Asheville Tool Library
REFRESH-INTERVAL;VALUE=DURATION:PT1H
X-Robots-Tag:noindex
X-PUBLISHED-TTL:PT1H
BEGIN:VTIMEZONE
TZID:America/New_York
BEGIN:DAYLIGHT
TZOFFSETFROM:-0500
TZOFFSETTO:-0400
TZNAME:EDT
DTSTART:20250309T070000
END:DAYLIGHT
BEGIN:STANDARD
TZOFFSETFROM:-0400
TZOFFSETTO:-0500
TZNAME:EST
DTSTART:20251102T060000
END:STANDARD
BEGIN:DAYLIGHT
TZOFFSETFROM:-0500
TZOFFSETTO:-0400
TZNAME:EDT
DTSTART:20260308T070000
END:DAYLIGHT
BEGIN:STANDARD
TZOFFSETFROM:-0400
TZOFFSETTO:-0500
TZNAME:EST
DTSTART:20261101T060000
END:STANDARD
BEGIN:DAYLIGHT
TZOFFSETFROM:-0500
TZOFFSETTO:-0400
TZNAME:EDT
DTSTART:20270314T070000
END:DAYLIGHT
BEGIN:STANDARD
TZOFFSETFROM:-0400
TZOFFSETTO:-0500
TZNAME:EST
DTSTART:20271107T060000
END:STANDARD
END:VTIMEZONE
BEGIN:VEVENT
DTSTART;TZID=America/New_York:20260428T170000
DTEND;TZID=America/New_York:20260428T190000
DTSTAMP:20260424T075631
CREATED:20260423T150156Z
LAST-MODIFIED:20260423T170915Z
UID:10000003-1777395600-1777402800@ashevilletoollibrary.org
SUMMARY:Community Garden Workday
DESCRIPTION:Join ATL's Seeds of Solidarity group at our Community Garden Workdays on the second and fourth Tuesday of every month! We meet in the open hoop house that sits diagonally across from the Tool Library and work on various garden-related tasks\, with the ultimate goal of growing food to donate back to our community. Feel free to show up any time during the 5-7pm timeframe and find out how you can get involved. Everyone is welcome!
URL:https://ashevilletoollibrary.org/event/community-garden-workday/
LOCATION:Asheville Tool Library\, 16 Smith Rd\, Asheville\, NC\, United States
GEO:35.616662;-82.602602
X-APPLE-STRUCTURED-LOCATION;VALUE=URI;X-ADDRESS=Asheville Tool Library 16 Smith Rd Asheville NC United States;X-APPLE-RADIUS=500;X-TITLE=16 Smith Rd:geo:-82.602602,35.616662
END:VEVENT
END:VCALENDAR